BEGIN:VCALENDAR
VERSION:2.0
PRODID:-//Neerby//EN
CALSCALE:GREGORIAN
METHOD:PUBLISH
BEGIN:VEVENT
UID:neerby-event-22215@neerby.io
DTSTAMP:20260421T232416Z
DTSTART:20260421T193000
DTEND:20260421T193000
SUMMARY:Thomas Dolby: The Iconic 80s
DESCRIPTION:Thomas Dolby is an English musician\, producer\, composer\, entrepreneur\, and teacher. Dolby came to prominence in the 1980s\, releasing hit singles including “She Blinded Me with Science” (1982) and “Hyperactive!” (1984). He has also worked as a producer and as a session musician. \nDolby is associated with the new wave movement of the early 1980s\, a form of pop music incorporating electronic instruments\, but Dolby’s work covers a wide range of musical styles and moods distinct from the high-energy pop sound of his few\, better-known commercial successes.
LOCATION:City Winery\, 3730 Foundry Way\, Suite 158\, St. Louis\, MO\, 63110\, United States\, 3730 Foundry Way\, St. Louis\, MO\, 63110
URL:https://neerby.io/event/22215
END:VEVENT
END:VCALENDAR