BEGIN:VCALENDAR
VERSION:2.0
PRODID:-//Neerby//EN
CALSCALE:GREGORIAN
METHOD:PUBLISH
BEGIN:VEVENT
UID:neerby-event-22216@neerby.io
DTSTAMP:20260421T232704Z
DTSTART:20260422T210000
DTEND:20260422T220000
SUMMARY:Empower Hour - Ethical Decision Making
DESCRIPTION:Ethical decision making is an important part of a professional career. Join the discussion of how ethical decisions in your career may or may not align with your core values.\n---\nEvent Details: https://tritonconnect.umsl.edu/rsvp?id=385599
LOCATION:Online Event\, 1 University Blvd\, St. Louis\, MO\, 63121
URL:https://neerby.io/event/22216
END:VEVENT
END:VCALENDAR