BEGIN:VCALENDAR
VERSION:2.0
PRODID:-//Neerby//EN
CALSCALE:GREGORIAN
METHOD:PUBLISH
BEGIN:VEVENT
UID:neerby-event-22217@neerby.io
DTSTAMP:20260421T232140Z
DTSTART:20260423T200000
DTEND:20260423T213000
SUMMARY:Able Disabled Partnership General Meeting
DESCRIPTION:Join Able Disable Partnership (ADP) for our final general body meeting of the semester! This meeting will focus on reflecting on our progress\, planning for the future\, and selecting our next group of leaders!\n\nWe’ll be holding officer elections and discussing goals for the upcoming semester. This is a great opportunity to get more involved\, step into a leadership role\, or help shape the direction of the organization. All are welcome\, and your voice matters in this process!\n---\nEvent Details: https://tritonconnect.umsl.edu/rsvp?id=385563
LOCATION:University of Missouri-St. Louis\, 1 University Blvd\, St. Louis\, MO\, 63121
URL:https://neerby.io/event/22217
END:VEVENT
END:VCALENDAR