BEGIN:VCALENDAR
VERSION:2.0
PRODID:-//Neerby//EN
CALSCALE:GREGORIAN
METHOD:PUBLISH
BEGIN:VEVENT
UID:neerby-event-22218@neerby.io
DTSTAMP:20260421T232301Z
DTSTART:20260424T170000
DTEND:20260424T203000
SUMMARY:Crochet by the Fireside Lounge 2
DESCRIPTION:Come join us in the fireside lounge for our last 2 meetings of the semester! We'll be teaching members how to make floral charms and headbands for spring\, but feel free to bring your own projects as well. This will be a chill event and snacks will be provided. \n---\nEvent Details: https://tritonconnect.umsl.edu/rsvp?id=385626
LOCATION:University of Missouri-St. Louis\, 1 University Blvd\, St. Louis\, MO\, 63121
URL:https://neerby.io/event/22218
END:VEVENT
END:VCALENDAR