BEGIN:VCALENDAR
VERSION:2.0
PRODID:-//Neerby//EN
CALSCALE:GREGORIAN
METHOD:PUBLISH
BEGIN:VEVENT
UID:neerby-event-22219@neerby.io
DTSTAMP:20260421T232426Z
DTSTART:20260424T180000
DTEND:20260424T200000
SUMMARY:End of Semester Writing Group - CCJ Department
DESCRIPTION:Join us for some writing time with snacks! We reunite to work on comps/thesis/dissertation writing at "Finnland" (CCJ Department). \n---\nEvent Details: https://tritonconnect.umsl.edu/rsvp?id=385613
LOCATION:University of Missouri-St. Louis\, 1 University Blvd\, St. Louis\, MO\, 63121
URL:https://neerby.io/event/22219
END:VEVENT
END:VCALENDAR