BEGIN:VCALENDAR
VERSION:2.0
PRODID:-//Neerby//EN
CALSCALE:GREGORIAN
METHOD:PUBLISH
BEGIN:VEVENT
UID:neerby-event-22220@neerby.io
DTSTAMP:20260421T232328Z
DTSTART:20260424T220000
DTEND:20260424T000000
SUMMARY:Eudaimonia Hour at Blueberry Hill
DESCRIPTION:This week\, we will be having Eudaimonia hour at Blueberry Hill\, in the loop at 6504 Delmar Blvd. This is a casual off-campus gathering where we will talk about philosophy. Anyone from any department is welcome to attend. This week\, we will be hosting 4 visiting students for our conference. Further\, please do not feel intimidated! You could be a professional philosopher or someone who learned the word "philosophy" last week\; regardless\, you are welcome at Eudaimonia hour! The meeting starts at 5:00 but has no set end time\, so everyone is welcome to come and go as they please. We hope to see you there!\n---\nEvent Details: https://tritonconnect.umsl.edu/rsvp?id=385630
LOCATION:University of Missouri-St. Louis\, 1 University Blvd\, St. Louis\, MO\, 63121
URL:https://neerby.io/event/22220
END:VEVENT
END:VCALENDAR