BEGIN:VCALENDAR
VERSION:2.0
PRODID:-//Neerby//EN
CALSCALE:GREGORIAN
METHOD:PUBLISH
BEGIN:VEVENT
UID:neerby-event-22222@neerby.io
DTSTAMP:20260421T231923Z
DTSTART:20260802T000000
DTEND:20260802
SUMMARY:Bob Dylan
LOCATION:Ascend Amphitheater\, 310 1st Ave S\, Nashville\, TN\, 37201
URL:https://neerby.io/event/22222
END:VEVENT
END:VCALENDAR