BEGIN:VCALENDAR
VERSION:2.0
PRODID:-//Neerby//EN
CALSCALE:GREGORIAN
METHOD:PUBLISH
BEGIN:VEVENT
UID:neerby-event-22225@neerby.io
DTSTAMP:20260422T030727Z
DTSTART:20260721T000000
DTEND:20260721T013000
SUMMARY:Star Party
DESCRIPTION:Bring the whole family and join the experts from the Astronomical Society of Eastern Missouri (ASEM) to be part of this telescope viewing session. We will gather to view the night skies through a number of telescopes operated by ASEM members!\n\nLearn about and have a chance to use the Orion StarBlast 4.5" telescope. These are the same type of telescopes available for check-out at our branches.\n\nTelescopes will be available for use during the Star Party\, but if there is interest in borrowing a telescope through the Library\, click HERE.\n\nChildren must be accompanied by an adult.\nASEM logo
LOCATION:1000 Kisker Rd\, St Charles\, MO\, 63304\, US\, 1000 Kisker Road\, Saint Charles\, MO\, 63304
URL:https://neerby.io/event/22225
END:VEVENT
END:VCALENDAR