BEGIN:VCALENDAR
VERSION:2.0
PRODID:-//Neerby//EN
CALSCALE:GREGORIAN
METHOD:PUBLISH
BEGIN:VEVENT
UID:neerby-event-22229@neerby.io
DTSTAMP:20260422T030553Z
DTSTART:20260721T150000
DTEND:20260721T153000
SUMMARY:Tiny Tots
LOCATION:2323 Elm St\, St Charles\, MO\, 63301\, US\, 2323 Elm Street\, Saint Charles\, MO\, 63301
URL:https://neerby.io/event/22229
END:VEVENT
END:VCALENDAR