BEGIN:VCALENDAR
VERSION:2.0
PRODID:-//Neerby//EN
CALSCALE:GREGORIAN
METHOD:PUBLISH
BEGIN:VEVENT
UID:neerby-event-22230@neerby.io
DTSTAMP:20260422T030620Z
DTSTART:20260721T150000
DTEND:20260721T154500
SUMMARY:LEGO Builders Jr.
LOCATION:1200 Corporate Pkwy\, Wentzville\, MO\, 63385\, US\, 1200 Corporate Parkway\, Wentzville\, MO\, 63385
URL:https://neerby.io/event/22230
END:VEVENT
END:VCALENDAR