BEGIN:VCALENDAR
VERSION:2.0
PRODID:-//Neerby//EN
CALSCALE:GREGORIAN
METHOD:PUBLISH
BEGIN:VEVENT
UID:neerby-event-22231@neerby.io
DTSTAMP:20260422T025524Z
DTSTART:20260721T150000
DTEND:20260721T160000
SUMMARY:Reptiles and Amphibians of Missouri
DESCRIPTION:An educational\, up-close experience for the whole family! Enjoy facts and stories about Missouri’s amphibians and reptiles while meeting the animals themselves. They will also go over some of the similarities and differences between modern-day animals and the dinosaurs of the past.\n\nThis program is on tour around the district! Check the July calendar to view the full list of available dates.\n\nThis program is supported by the Institute of Museum and Library Services under the provisions of the Library Services and Technology Act\, a division of the Office of the Secretary of State.
LOCATION:7435 Village Center Dr\, O'Fallon\, MO\, 63368\, US\, 7435 Village Center Drive\, O'Fallon\, MO\, 63368
URL:https://neerby.io/event/22231
END:VEVENT
END:VCALENDAR