BEGIN:VCALENDAR
VERSION:2.0
PRODID:-//Neerby//EN
CALSCALE:GREGORIAN
METHOD:PUBLISH
BEGIN:VEVENT
UID:neerby-event-22232@neerby.io
DTSTAMP:20260422T030446Z
DTSTART:20260721T153000
DTEND:20260721T160000
SUMMARY:Fun for Ones
DESCRIPTION:This class is a repeat from 9:30 am.
LOCATION:2760 McClay Rd\, St Charles\, MO\, 63303\, US\, 2760 McClay Road\, Saint Charles\, MO\, 63303
URL:https://neerby.io/event/22232
END:VEVENT
END:VCALENDAR