BEGIN:VCALENDAR
VERSION:2.0
PRODID:-//Neerby//EN
CALSCALE:GREGORIAN
METHOD:PUBLISH
BEGIN:VEVENT
UID:neerby-event-22243@neerby.io
DTSTAMP:20260422T030800Z
DTSTART:20260730T010000
DTEND:20260730
SUMMARY:Slayyyter
LOCATION:The Pageant\, 6161 Delmar Blvd\, St. Louis\, MO\, 63112
URL:https://neerby.io/event/22243
END:VEVENT
END:VCALENDAR