BEGIN:VCALENDAR
VERSION:2.0
PRODID:-//Neerby//EN
CALSCALE:GREGORIAN
METHOD:PUBLISH
BEGIN:VEVENT
UID:neerby-event-22277@neerby.io
DTSTAMP:20260422T103007Z
DTSTART:20260425T234500
DTEND:20260425T011500
SUMMARY:Lunch at Asian Cafe Bar & Grill
DESCRIPTION:St. Louis Historic Sites History Meetup\nDepending on when you are done seeing Zumwalt's Fort\, we can meander over to the Asian Cafe Bar & Grill.\n\nMenu here: https://www.asiancafebg.com/menu
LOCATION:St. Louis Historic Sites Meetup\, Saint Louis\, MO
URL:https://neerby.io/event/22277
END:VEVENT
END:VCALENDAR