BEGIN:VCALENDAR
VERSION:2.0
PRODID:-//Neerby//EN
CALSCALE:GREGORIAN
METHOD:PUBLISH
BEGIN:VEVENT
UID:neerby-event-22278@neerby.io
DTSTAMP:20260422T231420Z
DTSTART:20260509T160000
DTEND:20260509T180000
SUMMARY:Wander In and Make It: Flower Pots
DESCRIPTION:Wander in and make a flower pot that feels uniquely yours. A variety of planters in different shapes\, sizes\, and materials will be available along with paints and decorative supplies. Gentle\, self-guided prompts will invite you to experiment\, play\, and design at your own pace. Whether your style is whimsical\, bold\, or understated. There’s no instruction\, no pressure\, and no “right way” to create. There is just time to be a little artistic for a bit.\n\nThis experience pairs perfectly with the same day Plant Swap\, so you can decorate a pot and then choose a plant to fill it while you’re already here!\n\nConsider registering for this partner program.\n\nSwap Your Stuff: Plant Swap\n\nSaturday\, April 11\, 2026 11:00am–1:00pm\n\nPlant Swap is a forum for sharing plants\, gardening knowledge\, and questions with fellow gardeners. Bring you seeds\, cuttings\, transplants\, questions\, and advice to swap with fellow gardeners in our community. Tables\, soil\, and small plant containers will be provided. This class will either be in Room B inside Spencer Road Branch or outside on the Children's Patio depending on the weather.
LOCATION:427 Spencer Rd\, St Peters\, MO\, 63376\, US\, 427 Spencer Road\, St. Peters\, MO\, 63376
URL:https://neerby.io/event/22278
END:VEVENT
END:VCALENDAR