BEGIN:VCALENDAR
VERSION:2.0
PRODID:-//Neerby//EN
CALSCALE:GREGORIAN
METHOD:PUBLISH
BEGIN:VEVENT
UID:neerby-event-22281@neerby.io
DTSTAMP:20260422T232112Z
DTSTART:20260909T000000
DTEND:20260909
SUMMARY:Omar Courtz
LOCATION:Barclays Center\, 620 Atlantic Ave\, Brooklyn\, NY\, 11217
URL:https://neerby.io/event/22281
END:VEVENT
END:VCALENDAR