BEGIN:VCALENDAR
VERSION:2.0
PRODID:-//Neerby//EN
CALSCALE:GREGORIAN
METHOD:PUBLISH
BEGIN:VEVENT
UID:neerby-event-22282@neerby.io
DTSTAMP:20260422T231641Z
DTSTART:20260502T130000
DTEND:20260502T160000
SUMMARY:Posed! At the St. Louis Artists' Guild May 2 from 1-4pm. 20 dollar fee
DESCRIPTION:St. Louis  Drawing & Painting Meetup\nThis is a single posed event. Our model is Mark Coulliard inspired by Paul Delaroche's portrait of Emperor Napoleon. The fee is 20 dollars. Every 20 minutes we take a break and then return to the same pose. This is a perfect opportunity for you to sink into a pose and use your paints\, pastels or charcoal. Easels and tables provided. BYO Art Supplies.\nThe event can be prepaid at the Art guild’s website or in person.\n\nhttps://www.stlouisartistsguild.org/posed-drawing-group
LOCATION:St. Louis Drawing & Painting Meetup\, Saint Louis\, MO
URL:https://neerby.io/event/22282
END:VEVENT
END:VCALENDAR