BEGIN:VCALENDAR
VERSION:2.0
PRODID:-//Neerby//EN
CALSCALE:GREGORIAN
METHOD:PUBLISH
BEGIN:VEVENT
UID:neerby-event-22283@neerby.io
DTSTAMP:20260423T041942Z
DTSTART:20260425T150000
DTEND:20260425T153000
SUMMARY:Story Time with Lindenwood University
DESCRIPTION:This is a special story time in partnership with Lindenwood University. It allows undergraduates in the Teacher Education Program the opportunity to create and present a story time in accordance with their required coursework in their Children's Literature class.\n\nThis program is part of a series. Check April to view the full list of available dates.
LOCATION:1000 Kisker Rd\, St Charles\, MO\, 63304\, US\, 1000 Kisker Road\, Saint Charles\, MO\, 63304
URL:https://neerby.io/event/22283
END:VEVENT
END:VCALENDAR