BEGIN:VCALENDAR
VERSION:2.0
PRODID:-//Neerby//EN
CALSCALE:GREGORIAN
METHOD:PUBLISH
BEGIN:VEVENT
UID:neerby-event-22284@neerby.io
DTSTAMP:20260423T042001Z
DTSTART:20260706T190000
DTEND:20260706T200000
SUMMARY:Kinusaiga Sun Art
DESCRIPTION:Join us to discover Kinusaiga\, a Japanese no sew fabric art where pieces of fabric are tucked into grooves on a foam board to create textured\, mosaic like designs.\n\nIn this beginner friendly class\, you will learn to cut grooves\, choose fabrics\, and create your own artwork. No sewing skills required. Just bring your creativity and enjoy a relaxing\, hands on craft that gives new life to fabric scraps.
LOCATION:2750 State Hwy K\, O'Fallon\, MO\, 63368\, US\, 2750 State Highway K\, O'Fallon\, MO\, 63368
URL:https://neerby.io/event/22284
END:VEVENT
END:VCALENDAR