BEGIN:VCALENDAR
VERSION:2.0
PRODID:-//Neerby//EN
CALSCALE:GREGORIAN
METHOD:PUBLISH
BEGIN:VEVENT
UID:neerby-event-22285@neerby.io
DTSTAMP:20260423T041832Z
DTSTART:20260707T230000
DTEND:20260707T000000
SUMMARY:Family Fun: Underground Art
DESCRIPTION:Join us at the library for underground-themed art projects and activities\, including the three shown above! All supplies will be provided.\n\nThis art program is recommended for families. Children must be accompanied by an adult.
LOCATION:2750 State Hwy K\, O'Fallon\, MO\, 63368\, US\, 2750 State Highway K\, O'Fallon\, MO\, 63368
URL:https://neerby.io/event/22285
END:VEVENT
END:VCALENDAR