BEGIN:VCALENDAR
VERSION:2.0
PRODID:-//Neerby//EN
CALSCALE:GREGORIAN
METHOD:PUBLISH
BEGIN:VEVENT
UID:neerby-event-22287@neerby.io
DTSTAMP:20260423T041844Z
DTSTART:20260710T150000
DTEND:20260710T160000
SUMMARY:Growing Artists: Underground Art
DESCRIPTION:Join us at the library for underground-themed art projects and activities\, including the three shown above! All supplies will be provided.\n\nParents and/or caregivers do not need to register!
LOCATION:2750 State Hwy K\, O'Fallon\, MO\, 63368\, US\, 2750 State Highway K\, O'Fallon\, MO\, 63368
URL:https://neerby.io/event/22287
END:VEVENT
END:VCALENDAR