BEGIN:VCALENDAR
VERSION:2.0
PRODID:-//Neerby//EN
CALSCALE:GREGORIAN
METHOD:PUBLISH
BEGIN:VEVENT
UID:neerby-event-22288@neerby.io
DTSTAMP:20260423T042023Z
DTSTART:20260713T230000
DTEND:20260713T000000
SUMMARY:DIY Crafts: Quilling Coasters
DESCRIPTION:Use paper quilling to create a coaster.
LOCATION:2750 State Hwy K\, O'Fallon\, MO\, 63368\, US\, 2750 State Highway K\, O'Fallon\, MO\, 63368
URL:https://neerby.io/event/22288
END:VEVENT
END:VCALENDAR