BEGIN:VCALENDAR
VERSION:2.0
PRODID:-//Neerby//EN
CALSCALE:GREGORIAN
METHOD:PUBLISH
BEGIN:VEVENT
UID:neerby-event-22289@neerby.io
DTSTAMP:20260423T042006Z
DTSTART:20260714T230000
DTEND:20260714T000000
SUMMARY:Tweens Graphic Novel Club: "Measuring Up" by Lily LaMotte
DESCRIPTION:Do you love reading graphic novels? Are you in grades 4-8? Perfect! Then you should join our Tween Graphic Novel Club! Each month we will read and discuss a graphic novel and do fun activities related to the book! A description of July's title is below:\n\n"Twelve-year-old Cici has just moved from Taiwan to Seattle\, and the only thing she wants more than to fit in at her new school is to celebrate her grandmother\, A-má’s\, seventieth birthday together.\n\nSince she can’t go to A-má\, Cici cooks up a plan to bring A-má to her by winning the grand prize in a kids’ cooking contest to pay for A-má’s plane ticket! There’s just one problem: Cici only knows how to cook Taiwanese food.\n\nAnd after her pickled cucumber debacle at lunch\, she’s determined to channel her inner Julia Child. Can Cici find a winning recipe to reunite with A-má\, a way to fit in with her new friends\, and somehow find herself too?" - Description provided by Amazon\n\nPrefer reading it as an ebook or eaudiobook? Search for it HERE.\n\nThis program is recommended for grades 4-8. Have a younger graphic novel reader? Try Graphic Novel Club Jr.!
LOCATION:2750 State Hwy K\, O'Fallon\, MO\, 63368\, US\, 2750 State Highway K\, O'Fallon\, MO\, 63368
URL:https://neerby.io/event/22289
END:VEVENT
END:VCALENDAR