BEGIN:VCALENDAR
VERSION:2.0
PRODID:-//Neerby//EN
CALSCALE:GREGORIAN
METHOD:PUBLISH
BEGIN:VEVENT
UID:neerby-event-22290@neerby.io
DTSTAMP:20260423T042001Z
DTSTART:20260716T233000
DTEND:20260716T003000
SUMMARY:Lego Masters
DESCRIPTION:Test your Lego building skills by constructing a creation centered around a "mystery" piece.\n\nThis program is intended for Grades 6 and up\, including Adults. For younger children\, please check out our monthly Lego Builders Jr. (Pre-K) and Lego Builders (Grades K-5) programs.
LOCATION:2750 State Hwy K\, O'Fallon\, MO\, 63368\, US\, 2750 State Highway K\, O'Fallon\, MO\, 63368
URL:https://neerby.io/event/22290
END:VEVENT
END:VCALENDAR