BEGIN:VCALENDAR
VERSION:2.0
PRODID:-//Neerby//EN
CALSCALE:GREGORIAN
METHOD:PUBLISH
BEGIN:VEVENT
UID:neerby-event-22291@neerby.io
DTSTAMP:20260423T042023Z
DTSTART:20260717T150000
DTEND:20260717T163000
SUMMARY:Growing Minds: Pretend Play Dino Dig
DESCRIPTION:Pretend play grows imaginations\, fine motor skills\, STEM skills\, and so much more! Celebrate the Library's Summer Challenge theme\, Unearth A Story\, and join us for a Dino Dig. We'll start with a story and then our young paleontologists can put their imaginations to work. Children can check out learning activities\, make crafts\, and engage in pretend play activities.\n\nThis class is also being held on Friday afternoon and Saturday morning . Please only register for one session!
LOCATION:2750 State Hwy K\, O'Fallon\, MO\, 63368\, US\, 2750 State Highway K\, O'Fallon\, MO\, 63368
URL:https://neerby.io/event/22291
END:VEVENT
END:VCALENDAR