BEGIN:VCALENDAR
VERSION:2.0
PRODID:-//Neerby//EN
CALSCALE:GREGORIAN
METHOD:PUBLISH
BEGIN:VEVENT
UID:neerby-event-22294@neerby.io
DTSTAMP:20260423T042001Z
DTSTART:20260718T190000
DTEND:20260718T200000
SUMMARY:Tweens and Teens Create: Diamond Painting
DESCRIPTION:Create your own diamond painting project!
LOCATION:2750 State Hwy K\, O'Fallon\, MO\, 63368\, US\, 2750 State Highway K\, O'Fallon\, MO\, 63368
URL:https://neerby.io/event/22294
END:VEVENT
END:VCALENDAR