BEGIN:VCALENDAR
VERSION:2.0
PRODID:-//Neerby//EN
CALSCALE:GREGORIAN
METHOD:PUBLISH
BEGIN:VEVENT
UID:neerby-event-22295@neerby.io
DTSTAMP:20260423T041838Z
DTSTART:20260719T193000
DTEND:20260719T203000
SUMMARY:DIY Crafts: Bookshelf Arch
DESCRIPTION:Paint a decorative acrylic arch to display on your bookshelf! Bookish design templates will be provided\, or you can make your own.\n\n(sample image coming soon)
LOCATION:2750 State Hwy K\, O'Fallon\, MO\, 63368\, US\, 2750 State Highway K\, O'Fallon\, MO\, 63368
URL:https://neerby.io/event/22295
END:VEVENT
END:VCALENDAR