BEGIN:VCALENDAR
VERSION:2.0
PRODID:-//Neerby//EN
CALSCALE:GREGORIAN
METHOD:PUBLISH
BEGIN:VEVENT
UID:neerby-event-22296@neerby.io
DTSTAMP:20260423T042006Z
DTSTART:20260720T223000
DTEND:20260720T003000
SUMMARY:Teen Leadership Committee
DESCRIPTION:Be a part of the decision making process at the Library. Help plan programs\, give book recommendations\, promote the library\, and eat some snacks!\n\nInterested in joining TLC? Come to a meeting! We'll get you set up from there.\n\nAttendees can receive two hours of volunteer credit for attending (plus any extra participation you put in outside of meetings).
LOCATION:2750 State Hwy K\, O'Fallon\, MO\, 63368\, US\, 2750 State Highway K\, O'Fallon\, MO\, 63368
URL:https://neerby.io/event/22296
END:VEVENT
END:VCALENDAR