BEGIN:VCALENDAR
VERSION:2.0
PRODID:-//Neerby//EN
CALSCALE:GREGORIAN
METHOD:PUBLISH
BEGIN:VEVENT
UID:neerby-event-22297@neerby.io
DTSTAMP:20260423T042007Z
DTSTART:20260720T230000
DTEND:20260720T234500
SUMMARY:Pajama Story Time
LOCATION:2750 State Hwy K\, O'Fallon\, MO\, 63368\, US\, 2750 State Highway K\, O'Fallon\, MO\, 63368
URL:https://neerby.io/event/22297
END:VEVENT
END:VCALENDAR