BEGIN:VCALENDAR
VERSION:2.0
PRODID:-//Neerby//EN
CALSCALE:GREGORIAN
METHOD:PUBLISH
BEGIN:VEVENT
UID:neerby-event-22298@neerby.io
DTSTAMP:20260423T042023Z
DTSTART:20260721T230000
DTEND:20260721T000000
SUMMARY:Family Fun: Dinosaur Paint Party
DESCRIPTION:Use acrylic paint to create your own brachiosaurus dinosaur painting! All supplies will be provided.\n\nThis art program is recommended for families. Children must be accompanied by an adult.\n\nThis program is also being offered for school age children on Wednesday\, July 22 at 2:30 pm. Please only register for one program!
LOCATION:2750 State Hwy K\, O'Fallon\, MO\, 63368\, US\, 2750 State Highway K\, O'Fallon\, MO\, 63368
URL:https://neerby.io/event/22298
END:VEVENT
END:VCALENDAR