BEGIN:VCALENDAR
VERSION:2.0
PRODID:-//Neerby//EN
CALSCALE:GREGORIAN
METHOD:PUBLISH
BEGIN:VEVENT
UID:neerby-event-22299@neerby.io
DTSTAMP:20260423T042007Z
DTSTART:20260721T233000
DTEND:20260721T003000
SUMMARY:Teens Read: "A Study in Drowning" by Ava Reid
DESCRIPTION:Pick up copies of this month's books at the Youth Services desk at the Middendorf-Kredell branch.\n\nA book club just for teens! Read the book\, then come to the Library to discuss with other teens\, enjoy snacks\, and do activities related to the book!\n\nSearch for the ebook and/or eaudiobook HERE.\n\n"Entering a contest to redesign late author Emrys Myrddin's estate\, aspiring architect Effy Sayre arrives at Hiraeth Manor where she meets a stodgy young literature scholar who draws her into a battle against dark forces - both mortal and magical - that threatens to consume them both."
LOCATION:2750 State Hwy K\, O'Fallon\, MO\, 63368\, US\, 2750 State Highway K\, O'Fallon\, MO\, 63368
URL:https://neerby.io/event/22299
END:VEVENT
END:VCALENDAR