BEGIN:VCALENDAR
VERSION:2.0
PRODID:-//Neerby//EN
CALSCALE:GREGORIAN
METHOD:PUBLISH
BEGIN:VEVENT
UID:neerby-event-22301@neerby.io
DTSTAMP:20260423T041942Z
DTSTART:20260722T143000
DTEND:20260722T150000
SUMMARY:Tiny Tots
LOCATION:2750 State Hwy K\, O'Fallon\, MO\, 63368\, US\, 2750 State Highway K\, O'Fallon\, MO\, 63368
URL:https://neerby.io/event/22301
END:VEVENT
END:VCALENDAR