BEGIN:VCALENDAR
VERSION:2.0
PRODID:-//Neerby//EN
CALSCALE:GREGORIAN
METHOD:PUBLISH
BEGIN:VEVENT
UID:neerby-event-22307@neerby.io
DTSTAMP:20260423T041920Z
DTSTART:20260722T150000
DTEND:20260722T160000
SUMMARY:Baby Playdate
DESCRIPTION:Children can enjoy toys\, books and activities designed for babies\, toddlers\, and their caregivers!
LOCATION:2750 State Hwy K\, O'Fallon\, MO\, 63368\, US\, 2750 State Highway K\, O'Fallon\, MO\, 63368
URL:https://neerby.io/event/22307
END:VEVENT
END:VCALENDAR