BEGIN:VCALENDAR
VERSION:2.0
PRODID:-//Neerby//EN
CALSCALE:GREGORIAN
METHOD:PUBLISH
BEGIN:VEVENT
UID:neerby-event-22312@neerby.io
DTSTAMP:20260423T041920Z
DTSTART:20260722T193000
DTEND:20260722T203000
SUMMARY:Let's Create: Dinosaur Paint Party
DESCRIPTION:Use acrylic paint to create your own brachiosaurus dinosaur painting! All supplies will be provided.\n\nThis class is intended for grades K-5. Please only register children in that grade range who will be attending. Parents do not need to register.\n\nThis program is also being offered as a family program on Tuesday\, July 21 at 6 pm. Please only register for one program!
LOCATION:2750 State Hwy K\, O'Fallon\, MO\, 63368\, US\, 2750 State Highway K\, O'Fallon\, MO\, 63368
URL:https://neerby.io/event/22312
END:VEVENT
END:VCALENDAR