BEGIN:VCALENDAR
VERSION:2.0
PRODID:-//Neerby//EN
CALSCALE:GREGORIAN
METHOD:PUBLISH
BEGIN:VEVENT
UID:neerby-event-22313@neerby.io
DTSTAMP:20260423T041942Z
DTSTART:20260722T193000
DTEND:20260722T203000
SUMMARY:Teens and Tweens Create: Light Switch Covers
DESCRIPTION:Give your room a custom glow up by designing your very own DIY light switch cover! Use paint pens to create patterns\, favorite quotes\, or abstract art on a practical piece of decor you’ll use every day.\n\nAll supplies are provided\, so just bring your creativity and get ready to personalize your space.
LOCATION:1200 Corporate Pkwy\, Wentzville\, MO\, 63385\, US\, 1200 Corporate Parkway\, Wentzville\, MO\, 63385
URL:https://neerby.io/event/22313
END:VEVENT
END:VCALENDAR