BEGIN:VCALENDAR
VERSION:2.0
PRODID:-//Neerby//EN
CALSCALE:GREGORIAN
METHOD:PUBLISH
BEGIN:VEVENT
UID:neerby-event-22317@neerby.io
DTSTAMP:20260423T041942Z
DTSTART;VALUE=DATE:20260423
DTEND;VALUE=DATE:20260423
SUMMARY:NHRA D3 Lucas Oil Divisional
DESCRIPTION:NHRA North Central Division Lucas Oil Drag Racing Series Season Opener\nEvent Day: 8 AM each day \nEvent Schedule:\nWednesday 4/22 : Parking\nThursday 4/23: Parking and Test N Tune\nFriday 4/24 -Sunday 4/26: Qualifying and Eliminations
LOCATION:World Wide Technology Raceway\, 700 Raceway Boulevard\, Madison\, IL\, 62060\, United States\, 700 Raceway Boulevard\, Madison\, IL\, 62060
URL:https://neerby.io/event/22317
END:VEVENT
END:VCALENDAR