BEGIN:VCALENDAR
VERSION:2.0
PRODID:-//Neerby//EN
CALSCALE:GREGORIAN
METHOD:PUBLISH
BEGIN:VEVENT
UID:neerby-event-22333@neerby.io
DTSTAMP:20260423T040745Z
DTSTART:20260515T190000
DTEND:20260515T200000
SUMMARY:Spring Commencement 2026
DESCRIPTION:Graduates are invited to ceremonies on Friday and Saturday\, May 15 and 16\, 2026.\n \n\nDetailed student information can be found on the  Candidate Information page.\nDetailed guest information can be found on the  Guest Information page.\nDetailed faculty information can be found on the  Faculty Information page.\n \n\nFriday\, May 15\n\n2:00 PM | College of Optometry\n\n7:00 PM | Ed G. Smith College of Business & Joint Engineering\n\nSaturday\, May 16\n\n9:00 AM\n\nCollege of Arts & Sciences 1 (Arts\, Humanities\, Mathematics\, Sciences)\n\nCollege of Nursing\n\n1:30 PM\n\nCollege of Arts & Sciences 2 (Interdisciplinary\, Liberal Studies\, Social Sciences)\n\nSchool of Social Work\n\n6:30 PM\n\nCollege of Education\n\nSUCCEED
LOCATION:Mark Twain Athletic and Fitness Center (MT)\, Gym\, 5500 Dragon Place\, Columbia\, MD\, 21044
URL:https://neerby.io/event/22333
END:VEVENT
END:VCALENDAR