BEGIN:VCALENDAR
VERSION:2.0
PRODID:-//Neerby//EN
CALSCALE:GREGORIAN
METHOD:PUBLISH
BEGIN:VEVENT
UID:neerby-event-22355@neerby.io
DTSTAMP:20260423T225322Z
DTSTART:20260425T110000
DTEND:20260425T170000
SUMMARY:Earth Day at The Muny
DESCRIPTION:The St. Louis Earth Day Festival is a community tradition to learn about sustainable products and services offered by local businesses and organizations\, meet local area non-profits that share Earth Day values\, as well as showcasing local entertainment and local restaurants. \nLocation:\nMuny Grounds in Forest Park \n\nDates:\nApril 25-26\, 2026\n11 am – 5 pm both days \nNOTE: This event does NOT take place at the Saint Louis Science Center. \nLearn more about the St. Louis Earth Day Festivial \n  \nBe sure to check out all our other community events
LOCATION:St. Louis Science Center\, 5050 Oakland Ave\, St. Louis\, MO\, 63110
URL:https://neerby.io/event/22355
END:VEVENT
END:VCALENDAR