BEGIN:VCALENDAR
VERSION:2.0
PRODID:-//Neerby//EN
CALSCALE:GREGORIAN
METHOD:PUBLISH
BEGIN:VEVENT
UID:neerby-event-22358@neerby.io
DTSTAMP:20260423T225420Z
DTSTART:20260430T180000
DTEND:20260430T190000
SUMMARY:BOOTLEGGER trail run
DESCRIPTION:St. Louis Trail Running Club\n**4 or 5.5 mile loop trail. Meet in gravel parking lot on right near tennis courts on Streetcar drive which is off Dorsett ave. Turn right on Streetcar just before you reach Marine ave. The parking lot is about 1/2 mile in on Streetcar Dr.**
LOCATION:St. Louis Trail Running Club\, Saint Louis\, MO
URL:https://neerby.io/event/22358
END:VEVENT
END:VCALENDAR