BEGIN:VCALENDAR
VERSION:2.0
PRODID:-//Neerby//EN
CALSCALE:GREGORIAN
METHOD:PUBLISH
BEGIN:VEVENT
UID:neerby-event-22359@neerby.io
DTSTAMP:20260423T225501Z
DTSTART:20260503T080000
DTEND:20260503T100000
SUMMARY:Al Foster/ Zombie or Bluff Trail
DESCRIPTION:St. Louis Trail Running Club\nMeet in parking lot for either a 5 or 7 mile loop run if taking the Rock Hollow paved route or 9-10 mile loop run if you include Zombie East and the Extra Credit (1/2 mile loop) trail. Alternately the Bluff View trail is a 5 mile out and back option. Pace : 9-14 min per mile. Another option is the out and back on the all gravel Al foster trail.\nParking available in main paved lots by restrooms.
LOCATION:St. Louis Trail Running Club\, Saint Louis\, MO
URL:https://neerby.io/event/22359
END:VEVENT
END:VCALENDAR