BEGIN:VCALENDAR
VERSION:2.0
PRODID:-//Neerby//EN
CALSCALE:GREGORIAN
METHOD:PUBLISH
BEGIN:VEVENT
UID:neerby-event-22360@neerby.io
DTSTAMP:20260423T225432Z
DTSTART:20260525T013000
DTEND:20260525
SUMMARY:Kinfolk (21+)
LOCATION:Atomic Cowboy\, 4140 Manchester Ave\, St. Louis\, MO\, 63110
URL:https://neerby.io/event/22360
END:VEVENT
END:VCALENDAR