BEGIN:VCALENDAR
VERSION:2.0
PRODID:-//Neerby//EN
CALSCALE:GREGORIAN
METHOD:PUBLISH
BEGIN:VEVENT
UID:neerby-event-22362@neerby.io
DTSTAMP:20260423T225306Z
DTSTART:20260604T011500
DTEND:20260604
SUMMARY:Sean Canan's Voodoo Players (21+)
LOCATION:Atomic Cowboy\, 4140 Manchester Ave\, St. Louis\, MO\, 63110
URL:https://neerby.io/event/22362
END:VEVENT
END:VCALENDAR