BEGIN:VCALENDAR
VERSION:2.0
PRODID:-//Neerby//EN
CALSCALE:GREGORIAN
METHOD:PUBLISH
BEGIN:VEVENT
UID:neerby-event-22363@neerby.io
DTSTAMP:20260423T225238Z
DTSTART:20260606T010000
DTEND:20260606
SUMMARY:Funky Butt Brass Band (21+)
LOCATION:Atomic Cowboy\, 4140 Manchester Ave\, St. Louis\, MO\, 63110
URL:https://neerby.io/event/22363
END:VEVENT
END:VCALENDAR