BEGIN:VCALENDAR
VERSION:2.0
PRODID:-//Neerby//EN
CALSCALE:GREGORIAN
METHOD:PUBLISH
BEGIN:VEVENT
UID:neerby-event-22366@neerby.io
DTSTAMP:20260423T225238Z
DTSTART:20260724T000000
DTEND:20260724
SUMMARY:Mike Love and The Full Circle (21+)
LOCATION:Atomic Cowboy\, 4140 Manchester Ave\, St. Louis\, MO\, 63110
URL:https://neerby.io/event/22366
END:VEVENT
END:VCALENDAR