BEGIN:VCALENDAR
VERSION:2.0
PRODID:-//Neerby//EN
CALSCALE:GREGORIAN
METHOD:PUBLISH
BEGIN:VEVENT
UID:neerby-event-22378@neerby.io
DTSTAMP:20260424T034410Z
DTSTART:20260702T230000
DTEND:20260702T000000
SUMMARY:Teens Read: "All the Crooked Saints" by Maggie Stiefvater
DESCRIPTION:A book club just for teens! Read the book\, then come to the Library to discuss with other teens and enjoy snacks!\n\n"Here is a thing everyone wants: a miracle. Here is a thing everone fears: what it takes to get one. Any visitor to Bicho Raro\, Colorado\, is likely to find a landscape of dark saints\, forbidden love\, scientific dreams\, miracle-mad owls\, estranged affections\, one or two orphans\, and a sky full of watchful desert stars. At the heart of this place you will find the Soria family\, who all have the ability to perform unusual miracles. And at the heart of this family are three cousins longing to change its future: Beatriz\, the girl without feelings\, who wants only to be free to examine her thoughts\; Daniel\, the Saint of Bicho Raro\, who performs miracles for everyone but himself\; and Joaquin\, who spends his nights running a renegade radio station under the name Diablo Diablo. They are all looking for a miracle. But the miracles of Bicho Raro are never quite what you expect." - Description provided by the publisher.\n\nPrefer reading it as an ebook or eaudiobook? Search for it HERE.\n\nThis program is recommended for grades 8 - 12.
LOCATION:2323 Elm St\, St Charles\, MO\, 63301\, US\, 2323 Elm Street\, Saint Charles\, MO\, 63301
URL:https://neerby.io/event/22378
END:VEVENT
END:VCALENDAR