BEGIN:VCALENDAR
VERSION:2.0
PRODID:-//Neerby//EN
CALSCALE:GREGORIAN
METHOD:PUBLISH
BEGIN:VEVENT
UID:neerby-event-22379@neerby.io
DTSTAMP:20260424T032553Z
DTSTART:20260703T180000
DTEND:20260703T190000
SUMMARY:Homeschool Explorers
LOCATION:2323 Elm St\, St Charles\, MO\, 63301\, US\, 2323 Elm Street\, Saint Charles\, MO\, 63301
URL:https://neerby.io/event/22379
END:VEVENT
END:VCALENDAR