BEGIN:VCALENDAR
VERSION:2.0
PRODID:-//Neerby//EN
CALSCALE:GREGORIAN
METHOD:PUBLISH
BEGIN:VEVENT
UID:neerby-event-22380@neerby.io
DTSTAMP:20260424T034241Z
DTSTART:20260708T230000
DTEND:20260708T000000
SUMMARY:Film Appreciation Discussion: "The Patriot"
DESCRIPTION:Love the movies? Love talking about them? Join us for our our film appreciation discussion. Every month we will get together to discuss a different film and talk about our favorite moments\, dialogue and behind the scenes trivia from that film. Since we are also celebrating America's 250th birthday this year\, this month we will discussing the blockbuster Revolutionary War film The Patriot.\n\nNote that this is a discussion only\, we will not be screening the movie.
LOCATION:2323 Elm Street\, St Charles\, MO\, 63301\, US\, 2323 Elm Street\, Saint Charles\, MO\, 63301
URL:https://neerby.io/event/22380
END:VEVENT
END:VCALENDAR