BEGIN:VCALENDAR
VERSION:2.0
PRODID:-//Neerby//EN
CALSCALE:GREGORIAN
METHOD:PUBLISH
BEGIN:VEVENT
UID:neerby-event-22381@neerby.io
DTSTAMP:20260424T034207Z
DTSTART:20260711T190000
DTEND:20260711T200000
SUMMARY:Discover the Past: "Not Throwing Away My Shot": Famous American Duels
DESCRIPTION:Everyone who's listened to Hamilton knows that the beef between famous founding frenemies Alexander Hamilton and Aaron Burr was settled with a duel. While the Hamilton-Burr Duel is certainly the most famous instance of dueling in early America\, it was hardly the only one. Join us as we discuss some of the most famous duels in American History\, including those involving future President's Andrew Jackson and Abraham Lincoln\, along with their connection to the infamous "Bloody Island"\, where many duels involving prominent figures in early St.Louis and Missouri history transpired.
LOCATION:2323 Elm Street\, St Charles\, MO\, 63301\, US\, 2323 Elm Street\, Saint Charles\, MO\, 63301
URL:https://neerby.io/event/22381
END:VEVENT
END:VCALENDAR