BEGIN:VCALENDAR
VERSION:2.0
PRODID:-//Neerby//EN
CALSCALE:GREGORIAN
METHOD:PUBLISH
BEGIN:VEVENT
UID:neerby-event-22382@neerby.io
DTSTAMP:20260424T034239Z
DTSTART:20260715T193000
DTEND:20260715T220000
SUMMARY:Hollywood History: O Brother\, Where Art Thou?
DESCRIPTION:Celebrate America 250 and the pending release of Christopher Nolan's The Odyssey with a screening of the Coen Brother's classic Americana-infused take on the ancient tale. Stay after to learn about the real life depression-era people\, music\, and events who inspired the film.\n\nRated PG-13\n\nRun Time: 106 Minutes\n\nPopcorn and water will be provided.\n\nThis event is recommended for adults and teens aged 13 and up.
LOCATION:2323 Elm Street\, St Charles\, MO\, 63301\, US\, 2323 Elm Street\, Saint Charles\, MO\, 63301
URL:https://neerby.io/event/22382
END:VEVENT
END:VCALENDAR