BEGIN:VCALENDAR
VERSION:2.0
PRODID:-//Neerby//EN
CALSCALE:GREGORIAN
METHOD:PUBLISH
BEGIN:VEVENT
UID:neerby-event-22383@neerby.io
DTSTAMP:20260424T034337Z
DTSTART:20260716T220000
DTEND:20260716T230000
SUMMARY:Teen & Tween STEM: Maker Lab - 3D Print a Drone Frame
DESCRIPTION:Make stuff\, eat snacks\, have fun!\n\nMaker Lab is an opportunity for teens and tweens to build valuable tech skills. We'll be working with 3D printing tech\, Arduino circuit kits\, and more to explore\, experiment\, and develop the proficiencies and mindsets needed to build the world of tomorrow.\n\nThis month\, we will be designing a drone frame that can be 3D printed. We will be using the free online CAD software\, Tinkerkad. Parents can set up\, approve\, and supervise their child's Tinkercad account ahead of time by visiting https://www.tinkercad.com/join. Teens and tweens can still participate in the program without a Tinkercad account.
LOCATION:2323 Elm St\, St Charles\, MO\, 63301\, US\, 2323 Elm Street\, Saint Charles\, MO\, 63301
URL:https://neerby.io/event/22383
END:VEVENT
END:VCALENDAR